BEGIN:VCALENDAR
VERSION:2.0
PRODID:-//AFTLD - ECPv6.15.20//NONSGML v1.0//EN
CALSCALE:GREGORIAN
METHOD:PUBLISH
X-ORIGINAL-URL:https://www.aftld.org
X-WR-CALDESC:Events for AFTLD
REFRESH-INTERVAL;VALUE=DURATION:PT1H
X-Robots-Tag:noindex
X-PUBLISHED-TTL:PT1H
BEGIN:VTIMEZONE
TZID:Europe/Amsterdam
BEGIN:DAYLIGHT
TZOFFSETFROM:+0100
TZOFFSETTO:+0200
TZNAME:CEST
DTSTART:20210328T010000
END:DAYLIGHT
BEGIN:STANDARD
TZOFFSETFROM:+0200
TZOFFSETTO:+0100
TZNAME:CET
DTSTART:20211031T010000
END:STANDARD
BEGIN:DAYLIGHT
TZOFFSETFROM:+0100
TZOFFSETTO:+0200
TZNAME:CEST
DTSTART:20220327T010000
END:DAYLIGHT
BEGIN:STANDARD
TZOFFSETFROM:+0200
TZOFFSETTO:+0100
TZNAME:CET
DTSTART:20221030T010000
END:STANDARD
BEGIN:DAYLIGHT
TZOFFSETFROM:+0100
TZOFFSETTO:+0200
TZNAME:CEST
DTSTART:20230326T010000
END:DAYLIGHT
BEGIN:STANDARD
TZOFFSETFROM:+0200
TZOFFSETTO:+0100
TZNAME:CET
DTSTART:20231029T010000
END:STANDARD
END:VTIMEZONE
BEGIN:VEVENT
DTSTART;VALUE=DATE:20220613
DTEND;VALUE=DATE:20220617
DTSTAMP:20260425T184315
CREATED:20220221T093704Z
LAST-MODIFIED:20220221T093814Z
UID:175939-1655078400-1655423999@www.aftld.org
SUMMARY:ICANN74 Policy Forum
DESCRIPTION:ICANN73 to be Virtual Meeting\, Board Affirms Intent to Hold Hybrid ICANN74\nLOS ANGELES – 4 November 2021 – Today\, the Internet Corporation for Assigned Names and Numbers (ICANN) announced that ICANN73 will convene as a Virtual Community Forum Meeting due to the continuing impacts of the COVID-19 pandemic. The resolution and full rationale from the ICANN Board of Directors can be found here.
URL:https://www.aftld.org/event/icann74-policy-forum/
END:VEVENT
END:VCALENDAR