BEGIN:VCALENDAR
VERSION:2.0
PRODID:-//AFTLD - ECPv6.15.20//NONSGML v1.0//EN
CALSCALE:GREGORIAN
METHOD:PUBLISH
X-WR-CALNAME:AFTLD
X-ORIGINAL-URL:https://www.aftld.org
X-WR-CALDESC:Events for AFTLD
REFRESH-INTERVAL;VALUE=DURATION:PT1H
X-Robots-Tag:noindex
X-PUBLISHED-TTL:PT1H
BEGIN:VTIMEZONE
TZID:Africa/Accra
BEGIN:STANDARD
TZOFFSETFROM:+0000
TZOFFSETTO:+0000
TZNAME:GMT
DTSTART:20210101T000000
END:STANDARD
END:VTIMEZONE
BEGIN:VEVENT
DTSTART;VALUE=DATE:20220620
DTEND;VALUE=DATE:20220623
DTSTAMP:20260425T195204
CREATED:20220221T100624Z
LAST-MODIFIED:20220221T100624Z
UID:175953-1655683200-1655942399@www.aftld.org
SUMMARY:Advanced Registry Operations Course 20 - 24 June 2022
DESCRIPTION:Advanced Registry Operations Course is a 40 Hour Course tailored for operators looking to build robust operations moving forwad into advanced installation and configuration topics. This course focuses on demonstrating a structured approach to network monitoring and management including further risk management plans. The course is highlighted by hands-on exercises to installation and configuration components beyond the “core”. Topics in this course include architecture\, monitoring tools and scripting.
URL:https://www.aftld.org/event/advanced-registry-operations-course-20-24-june-2022/
ORGANIZER;CN="AFTLD":MAILTO:info@aftld.org
END:VEVENT
END:VCALENDAR