BEGIN:VCALENDAR
VERSION:2.0
PRODID:-//AFTLD - ECPv6.15.20//NONSGML v1.0//EN
CALSCALE:GREGORIAN
METHOD:PUBLISH
X-ORIGINAL-URL:https://www.aftld.org
X-WR-CALDESC:Events for AFTLD
REFRESH-INTERVAL;VALUE=DURATION:PT1H
X-Robots-Tag:noindex
X-PUBLISHED-TTL:PT1H
BEGIN:VTIMEZONE
TZID:Europe/Paris
BEGIN:DAYLIGHT
TZOFFSETFROM:+0100
TZOFFSETTO:+0200
TZNAME:CEST
DTSTART:20210328T010000
END:DAYLIGHT
BEGIN:STANDARD
TZOFFSETFROM:+0200
TZOFFSETTO:+0100
TZNAME:CET
DTSTART:20211031T010000
END:STANDARD
BEGIN:DAYLIGHT
TZOFFSETFROM:+0100
TZOFFSETTO:+0200
TZNAME:CEST
DTSTART:20220327T010000
END:DAYLIGHT
BEGIN:STANDARD
TZOFFSETFROM:+0200
TZOFFSETTO:+0100
TZNAME:CET
DTSTART:20221030T010000
END:STANDARD
BEGIN:DAYLIGHT
TZOFFSETFROM:+0100
TZOFFSETTO:+0200
TZNAME:CEST
DTSTART:20230326T010000
END:DAYLIGHT
BEGIN:STANDARD
TZOFFSETFROM:+0200
TZOFFSETTO:+0100
TZNAME:CET
DTSTART:20231029T010000
END:STANDARD
END:VTIMEZONE
BEGIN:VEVENT
DTSTART;TZID=Europe/Paris:20220801T080000
DTEND;TZID=Europe/Paris:20220831T170000
DTSTAMP:20260425T173548
CREATED:20220221T102914Z
LAST-MODIFIED:20220221T102914Z
UID:175967-1659340800-1661965200@www.aftld.org
SUMMARY:AfPIF 11
DESCRIPTION:What is African Peering and Interconnection Forum (AfPIF)?\n\n\n\n\n\n\n\nThe African Peering and Interconnection Forum addresses the key interconnection\, peering\, and traffic exchange opportunities and challenges on the continent and provides participants with global and regional insights for maximising opportunities that will help grow Internet infrastructure and services in Africa. \n\n\nWho Should Attend\nThe forum targets executives\, Chief Technology Officers (CTOs)\, peering coordinators and business development managers from the African region\, Internet Service Providers (ISPs) and operators\, telecommunications policy-makers and regulators\, content providers\, Internet Exchange Point (IXP) operators\, infrastructure providers\, data center managers\, National Research and Education Networks (NRENs) as well as carriers and transit providers. The forum is planned as a non-profit event and international sponsorship and support have been sought to convene the event.
URL:https://www.aftld.org/event/afpif-11/
END:VEVENT
END:VCALENDAR