BEGIN:VCALENDAR
VERSION:2.0
PRODID:-//AFTLD - ECPv6.15.20//NONSGML v1.0//EN
CALSCALE:GREGORIAN
METHOD:PUBLISH
X-ORIGINAL-URL:https://www.aftld.org
X-WR-CALDESC:Events for AFTLD
REFRESH-INTERVAL;VALUE=DURATION:PT1H
X-Robots-Tag:noindex
X-PUBLISHED-TTL:PT1H
BEGIN:VTIMEZONE
TZID:Europe/Paris
BEGIN:DAYLIGHT
TZOFFSETFROM:+0100
TZOFFSETTO:+0200
TZNAME:CEST
DTSTART:20210328T010000
END:DAYLIGHT
BEGIN:STANDARD
TZOFFSETFROM:+0200
TZOFFSETTO:+0100
TZNAME:CET
DTSTART:20211031T010000
END:STANDARD
BEGIN:DAYLIGHT
TZOFFSETFROM:+0100
TZOFFSETTO:+0200
TZNAME:CEST
DTSTART:20220327T010000
END:DAYLIGHT
BEGIN:STANDARD
TZOFFSETFROM:+0200
TZOFFSETTO:+0100
TZNAME:CET
DTSTART:20221030T010000
END:STANDARD
BEGIN:DAYLIGHT
TZOFFSETFROM:+0100
TZOFFSETTO:+0200
TZNAME:CEST
DTSTART:20230326T010000
END:DAYLIGHT
BEGIN:STANDARD
TZOFFSETFROM:+0200
TZOFFSETTO:+0100
TZNAME:CET
DTSTART:20231029T010000
END:STANDARD
END:VTIMEZONE
BEGIN:VEVENT
DTSTART;TZID=Europe/Paris:20220912T080000
DTEND;TZID=Europe/Paris:20220916T170000
DTSTAMP:20260425T150303
CREATED:20220221T101622Z
LAST-MODIFIED:20220221T101622Z
UID:175957-1662969600-1663347600@www.aftld.org
SUMMARY:Secure Registry Operators Course 12 - 16 September 2022
DESCRIPTION:Secure Registry Operators Course is a 3 day (24 Hour) workshop that introduces ccTLD technical and operations staff to the security aspects  of operating a registry. Attendees will learn principles of proactively securing their registries in addition to monitoring and response tactics through a structured approach guiding through creating a baseline\, monitoring ongoing operations\, detecting and analyzing cyber attacks\, incident response\, and recovery and mitigation strategies. The class architecture provides one registry network for every two participants allowing each small group to get a hands on experience as a primary method of instruction by enabling them to see attacks\, use monitoring and detection tools to analyze those attacks and implement protective measures all LIVE on the in class network to emphasize real base lining \, monitoring\, detection\, analysis and response
URL:https://www.aftld.org/event/secure-registry-operators-course-12-16-september-2022/
ORGANIZER;CN="AFTLD":MAILTO:info@aftld.org
END:VEVENT
END:VCALENDAR