BEGIN:VCALENDAR
VERSION:2.0
PRODID:-//AFTLD - ECPv6.15.20//NONSGML v1.0//EN
CALSCALE:GREGORIAN
METHOD:PUBLISH
X-ORIGINAL-URL:https://www.aftld.org
X-WR-CALDESC:Events for AFTLD
REFRESH-INTERVAL;VALUE=DURATION:PT1H
X-Robots-Tag:noindex
X-PUBLISHED-TTL:PT1H
BEGIN:VTIMEZONE
TZID:Asia/Kuala_Lumpur
BEGIN:STANDARD
TZOFFSETFROM:+0800
TZOFFSETTO:+0800
TZNAME:+08
DTSTART:20210101T000000
END:STANDARD
END:VTIMEZONE
BEGIN:VEVENT
DTSTART;TZID=Asia/Kuala_Lumpur:20220917T080000
DTEND;TZID=Asia/Kuala_Lumpur:20220922T170000
DTSTAMP:20260425T145807
CREATED:20220221T094211Z
LAST-MODIFIED:20220221T094211Z
UID:175941-1663401600-1663866000@www.aftld.org
SUMMARY:ICANN75 	Annual General Meeting (24th)
DESCRIPTION:About\n\n\n\n\n\n\n\n\n\n\n\nICANN Meetings have been central to ICANN’s multistakeholder model since its formation in 1998. They provide a venue for learning about ICANN\, advancing policy work\, conducting outreach\, exchanging best practices\, conducting business deals\, and interacting with members of the ICANN community\, Board\, and organization. \nDesigned to meet a diverse range of needs for ICANN’s Supporting Organizations and Advisory Committees (SO/ACs)\, staff\, and newcomers alike\, an average ICANN Meeting accepts more than 350 submissions to schedule in twelve simultaneous sessions spanning four to six days. \nMeeting Strategy\nThe current strategy for ICANN’s triannual meetings was developed by the Meeting Strategy Working Group (MSWG) and adopted by the ICANN Board in 2014. The MSWG was a cross-community Working Group created by the ICANN Board to look into all aspects of the ICANN Meetings. The group made proposals for changes to meeting timing\, duration and format\, rotation of the meeting location\, meeting support and engagement activities\, and meeting planning. \n Learn More about the Meeting Strategy or Download the Final Report. \nWhere and when do ICANN meetings take place?\nICANN meetings are held three times each year in different regions of the globe to enable attendees from around the world to participate in person. Each ICANN Meeting held throughout the year has a different focus and duration. The meetings are known as Community Forum\, Policy Forum\, and Annual General Meeting (AGM).\nYou can see the list of the dates and locations for past and upcoming ICANN meetings at http://meetings.icann.org/calendar.
URL:https://www.aftld.org/event/icann75-annual-general-meeting-24th/
END:VEVENT
END:VCALENDAR