BEGIN:VCALENDAR
VERSION:2.0
PRODID:-//AFTLD - ECPv6.15.20//NONSGML v1.0//EN
CALSCALE:GREGORIAN
METHOD:PUBLISH
X-WR-CALNAME:AFTLD
X-ORIGINAL-URL:https://www.aftld.org
X-WR-CALDESC:Events for AFTLD
REFRESH-INTERVAL;VALUE=DURATION:PT1H
X-Robots-Tag:noindex
X-PUBLISHED-TTL:PT1H
BEGIN:VTIMEZONE
TZID:Africa/Accra
BEGIN:STANDARD
TZOFFSETFROM:+0000
TZOFFSETTO:+0000
TZNAME:GMT
DTSTART:20210101T000000
END:STANDARD
END:VTIMEZONE
BEGIN:VEVENT
DTSTART;TZID=Africa/Accra:20221114T080000
DTEND;TZID=Africa/Accra:20221118T170000
DTSTAMP:20260425T122714
CREATED:20220221T103229Z
LAST-MODIFIED:20220221T103229Z
UID:175971-1668412800-1668790800@www.aftld.org
SUMMARY:AFRINIC - 36
DESCRIPTION:
URL:https://www.aftld.org/event/afrinic-36/
END:VEVENT
END:VCALENDAR