BEGIN:VCALENDAR
VERSION:2.0
PRODID:-//AFTLD - ECPv6.15.20//NONSGML v1.0//EN
CALSCALE:GREGORIAN
METHOD:PUBLISH
X-WR-CALNAME:AFTLD
X-ORIGINAL-URL:https://www.aftld.org
X-WR-CALDESC:Events for AFTLD
REFRESH-INTERVAL;VALUE=DURATION:PT1H
X-Robots-Tag:noindex
X-PUBLISHED-TTL:PT1H
BEGIN:VTIMEZONE
TZID:America/Mexico_City
BEGIN:DAYLIGHT
TZOFFSETFROM:-0600
TZOFFSETTO:-0500
TZNAME:CDT
DTSTART:20220403T080000
END:DAYLIGHT
BEGIN:STANDARD
TZOFFSETFROM:-0500
TZOFFSETTO:-0600
TZNAME:CST
DTSTART:20221030T070000
END:STANDARD
END:VTIMEZONE
BEGIN:VEVENT
DTSTART;TZID=America/Mexico_City:20230311T080000
DTEND;TZID=America/Mexico_City:20230316T170000
DTSTAMP:20260423T125405
CREATED:20230111T094007Z
LAST-MODIFIED:20230111T094007Z
UID:175982-1678521600-1678986000@www.aftld.org
SUMMARY:ICANN 76 Mexico\, Cancun
DESCRIPTION:News & Information\n\n\n\n\n\n\n\nICANN76 Community Forum will be held in Cancún\, Mexico at the Cancún Center\, 11-16 March 2023.\n\n\nThis will be a hybrid meeting with both in-person and virtual participation.\nAll sessions will be conducted during regular working hours in Cancún\, Mexico (Eastern Standard Time / UTC-5).\n\nDaylight Saving Time is not in use in Cancún\, Mexico. However\, most of the United States\, Canada\, and some northern border locations in Mexico will switch to DST on 12 March 2023.\n\n\n\n\nPrep Week will be conducted 27 Feb – 1 Mar 2023. The Prep Week schedule will be published on 13 Feb 2023.\nThe comprehensive schedule will be published 17 Feb 2023.\nIn-person registration closes on 8 March 2023. Virtual registration will remain available through 16 March 2023.
URL:https://www.aftld.org/event/icann-76-mexico-cancun/
END:VEVENT
END:VCALENDAR