BEGIN:VCALENDAR
VERSION:2.0
PRODID:-//AFTLD - ECPv6.15.20//NONSGML v1.0//EN
CALSCALE:GREGORIAN
METHOD:PUBLISH
X-ORIGINAL-URL:https://www.aftld.org
X-WR-CALDESC:Events for AFTLD
REFRESH-INTERVAL;VALUE=DURATION:PT1H
X-Robots-Tag:noindex
X-PUBLISHED-TTL:PT1H
BEGIN:VTIMEZONE
TZID:America/Puerto_Rico
BEGIN:STANDARD
TZOFFSETFROM:-0400
TZOFFSETTO:-0400
TZNAME:AST
DTSTART:20210101T000000
END:STANDARD
END:VTIMEZONE
BEGIN:VTIMEZONE
TZID:Europe/Paris
BEGIN:DAYLIGHT
TZOFFSETFROM:+0100
TZOFFSETTO:+0200
TZNAME:CEST
DTSTART:20210328T010000
END:DAYLIGHT
BEGIN:STANDARD
TZOFFSETFROM:+0200
TZOFFSETTO:+0100
TZNAME:CET
DTSTART:20211031T010000
END:STANDARD
BEGIN:DAYLIGHT
TZOFFSETFROM:+0100
TZOFFSETTO:+0200
TZNAME:CEST
DTSTART:20220327T010000
END:DAYLIGHT
BEGIN:STANDARD
TZOFFSETFROM:+0200
TZOFFSETTO:+0100
TZNAME:CET
DTSTART:20221030T010000
END:STANDARD
BEGIN:DAYLIGHT
TZOFFSETFROM:+0100
TZOFFSETTO:+0200
TZNAME:CEST
DTSTART:20230326T010000
END:DAYLIGHT
BEGIN:STANDARD
TZOFFSETFROM:+0200
TZOFFSETTO:+0100
TZNAME:CET
DTSTART:20231029T010000
END:STANDARD
END:VTIMEZONE
BEGIN:VEVENT
DTSTART;VALUE=DATE:20220307
DTEND;VALUE=DATE:20220311
DTSTAMP:20260426T025906
CREATED:20220221T093225Z
LAST-MODIFIED:20220221T093225Z
UID:175937-1646611200-1646956799@www.aftld.org
SUMMARY:ICANN 73 Virtual Community Forum
DESCRIPTION:News & Information\n\n\n\n\n\n\n\nICANN73 Community Forum will be held virtually\, 7-10 March 2022 (revised meeting dates). Read the announcement here.\n\n\nAll sessions will be conducted during regular working hours in San Juan\, Puerto Rico (Atlantic Standard Time / UTC-4).\nPrep Week will be held 22-24 February 2022. The Prep Week schedule can be previewed here.\nThe comprehensive schedule is now published. Registration and signing in will be required to sign up for sessions. Preview the full schedule here.\nICANN continues the Pandemic Internet Access Reimbursement Program. Learn more here. Application period closes 18 February 2022.
URL:https://www.aftld.org/event/icann-73-virtual-community-forum/
END:VEVENT
BEGIN:VEVENT
DTSTART;VALUE=DATE:20220328
DTEND;VALUE=DATE:20220330
DTSTAMP:20260426T025906
CREATED:20220221T095720Z
LAST-MODIFIED:20220221T095813Z
UID:175943-1648425600-1648598399@www.aftld.org
SUMMARY:Initial Registry Operators Course 28th - 29th March 2022
DESCRIPTION:Initial Registry Operators Course is a 40 Hour course targeting new operators and those seeking a refresher on registry operations. The Course covers the basics of building and operating a registry and focuses on technology supporting business and resolution functions complemented by hands-on exercises to install and configure core components. Participants will be introduced to basic principals of risk management encompassing topics such as architecture \, name servers\, databases and operating systems.
URL:https://www.aftld.org/event/initial-registry-operators-course-28th-29th-march-2022/
ORGANIZER;CN="AFTLD":MAILTO:info@aftld.org
END:VEVENT
END:VCALENDAR